BEGIN:VCALENDAR
VERSION:2.0
PRODID:-//Lieder Company Prague - ECPv6.15.20//NONSGML v1.0//EN
CALSCALE:GREGORIAN
METHOD:PUBLISH
X-ORIGINAL-URL:https://liedercompany.cz
X-WR-CALDESC:Akce na Lieder Company Prague
REFRESH-INTERVAL;VALUE=DURATION:PT1H
X-Robots-Tag:noindex
X-PUBLISHED-TTL:PT1H
BEGIN:VTIMEZONE
TZID:Europe/Prague
BEGIN:DAYLIGHT
TZOFFSETFROM:+0100
TZOFFSETTO:+0200
TZNAME:CEST
DTSTART:20200329T010000
END:DAYLIGHT
BEGIN:STANDARD
TZOFFSETFROM:+0200
TZOFFSETTO:+0100
TZNAME:CET
DTSTART:20201025T010000
END:STANDARD
BEGIN:DAYLIGHT
TZOFFSETFROM:+0100
TZOFFSETTO:+0200
TZNAME:CEST
DTSTART:20210328T010000
END:DAYLIGHT
BEGIN:STANDARD
TZOFFSETFROM:+0200
TZOFFSETTO:+0100
TZNAME:CET
DTSTART:20211031T010000
END:STANDARD
BEGIN:DAYLIGHT
TZOFFSETFROM:+0100
TZOFFSETTO:+0200
TZNAME:CEST
DTSTART:20220327T010000
END:DAYLIGHT
BEGIN:STANDARD
TZOFFSETFROM:+0200
TZOFFSETTO:+0100
TZNAME:CET
DTSTART:20221030T010000
END:STANDARD
BEGIN:DAYLIGHT
TZOFFSETFROM:+0100
TZOFFSETTO:+0200
TZNAME:CEST
DTSTART:20230326T010000
END:DAYLIGHT
BEGIN:STANDARD
TZOFFSETFROM:+0200
TZOFFSETTO:+0100
TZNAME:CET
DTSTART:20231029T010000
END:STANDARD
END:VTIMEZONE
BEGIN:VEVENT
DTSTART;TZID=Europe/Prague:20220508T193000
DTEND;TZID=Europe/Prague:20220508T193000
DTSTAMP:20260425T135050
CREATED:20220405T185319Z
LAST-MODIFIED:20220505T063412Z
UID:1657-1652038200-1652038200@liedercompany.cz
SUMMARY:Zpěv lásky a smrti (Troupová & Červinek & Dušek)
DESCRIPTION:Zřídka uváděný rozsáhlý písňový cyklus Harawi\, stěžejní dílo francouzského skladatele Oliviera Messiaena\, od jehož úmrtí si v letošním roce připomínáme 30 let\, zazní v interpretaci sopranistky Ireny Troupové po boku klavíristy Jana Duška. Oba patří mezi respektované interprety hudby 20. století\, což je příslibem nevšedního hudebního zážitku. \n\n\n\nVečer doplní mladý barytonista Robin Červinek\, který je držitelem mnoha ocenění\, v dílech Paula Dukase a Marcela Duprého – obou pedagogů Oliviera Messiaena. Jejich nejen písňová tvorba je českému publiku téměř neznámá\, písně budou s největší pravděpodobností představeny v Praze zcela poprvé. \n\n\n\n\n\nProgram: \n\n\n\nOlivier Messiaen: HarawiPaul Dukas: Sonnet de Ronsard (Amours)Marcel Dupré: A l´amie perdue\n\n\n\n\n\n\n\nÚčinkující: \n\n\n\nIrena Troupová – sopránRobin Červinek – barytonJan Dušek – klavír\n\n\n\n\n\n\n\nSkladby budou provedeny ve francouzském originále a doplněny českými titulky. \n\n\n\n\n\n\n\n\n\n\n\nKoncertní sezóna 2022 se koná pod záštitou ministra kultury Mgr. Martina Baxy.
URL:https://liedercompany.cz/event/080522-zpev-lasky-a-smrti/
LOCATION:Novoměstská radnice\, Karlovo nám. 1\, Praha 2\, 120 00\, Česká republika
ATTACH;FMTTYPE=image/jpeg:https://liedercompany.cz/wp-content/uploads/2022/03/01_Dusek_Troupova_Cervinek.jpg
END:VEVENT
BEGIN:VEVENT
DTSTART;TZID=Europe/Prague:20220427T180000
DTEND;TZID=Europe/Prague:20220427T180000
DTSTAMP:20260425T135050
CREATED:20211217T095540Z
LAST-MODIFIED:20220404T203009Z
UID:1046-1651082400-1651082400@liedercompany.cz
SUMMARY:V. J. TOMÁŠEK - LENORA (Troupová & Matějová)
DESCRIPTION:Tomáškova a Novákova hudební Skuteč \n\n\n\nPísně a balady skutečského rodáka Václava Jana Tomáška. \n\n\n\nIrena Troupová – soprán\, Petra Matějová – kladívkový klavír
URL:https://liedercompany.cz/event/v-j-tomasek-lenora-troupova-matejova/
LOCATION:Kostel Nanebevzetí Panny Marie Skuteč\, Tyršova 1\, Skuteč\, 539 73\, Česká republika
END:VEVENT
BEGIN:VEVENT
DTSTART;TZID=Europe/Prague:20211125T193000
DTEND;TZID=Europe/Prague:20211125T193000
DTSTAMP:20260425T135050
CREATED:20211108T152031Z
LAST-MODIFIED:20211108T155050Z
UID:865-1637868600-1637868600@liedercompany.cz
SUMMARY:"Slovenská lidová poezie v písních" - Janál & Košárek
DESCRIPTION:Koncert a křest nového CD s písněmi Mikuláše Schneidera-Trnavského a Bohuslava Martinů v interpretaci Romana Janála a Karla Košárka. \n\n\n\nVečerem provází Jiří Vejvoda. \n\n\n\nLístky je možno rezervovat na k.janalova@seznam.cz
URL:https://liedercompany.cz/event/roman-janal-a-karel-kosarek-koncert-a-krest-cd-slovenska-lidova-poezie-v-pisnich/
LOCATION:Novoměstská radnice\, Karlovo nám. 1\, Praha 2\, 120 00\, Česká republika
ATTACH;FMTTYPE=image/jpeg:https://liedercompany.cz/wp-content/uploads/2021/11/Titulka-Cd010A8229-orez-scaled.jpg
END:VEVENT
BEGIN:VEVENT
DTSTART;TZID=Europe/Prague:20211124T190000
DTEND;TZID=Europe/Prague:20211124T190000
DTSTAMP:20260425T135050
CREATED:20211110T081344Z
LAST-MODIFIED:20211110T081358Z
UID:883-1637780400-1637780400@liedercompany.cz
SUMMARY:Koncert pro soprán a harfu - Troupová & Härtelová
DESCRIPTION:Zveme vás na koncert Wolfgang Amadeus Mozart v dopisech a hudbě\, zpívat bude přední česká sopranistka Irena Troupová\, kterou na harfu doprovodí Lydie Härtelová. Koncert se uskuteční v sále Komunitního centra Půda na suchdolské radnici\, Suchdolské nám. 3.Zazní písně W. A. Mozarta\, skladby Leopolda Mozarta\, které budou proloženy humorným cyklem Wolfgang Amadeus Mozart v dopisech a v hudbě od Miloše Štědroně.Spojení: zastávka MHD Suchdolské náměstí\, autobusové linky 107\, X107 a 147 ze stanice Dejvická. 
URL:https://liedercompany.cz/event/koncert-pro-sopran-a-harfu-troupova-hartelova/
LOCATION:Komunitní centrum PŮDA\, Suchdolské náměstí 734/3\, Praha - Suchdol\, 165 00\, Česká republika
ATTACH;FMTTYPE=image/jpeg:https://liedercompany.cz/wp-content/uploads/2021/03/Troupova.jpg
END:VEVENT
BEGIN:VEVENT
DTSTART;TZID=Europe/Prague:20210915T193000
DTEND;TZID=Europe/Prague:20210915T193000
DTSTAMP:20260425T135050
CREATED:20210903T054047Z
LAST-MODIFIED:20210903T054346Z
UID:838-1631734200-1631734200@liedercompany.cz
SUMMARY:Hudba ve stínu holokaustu - Irena Troupová & Jan Dušek
DESCRIPTION:Komorní koncert představí písně a klavírní skladby českých\, resp. česko-německo-židovských skladatelů\, kteří se narodili na území bývalých „Zemí koruny české“ ještě v době habsburské monarchie a později\, v Československé republice\, úspěšně rozvíjeli svoji hudební kariéru. Tu však rázem přerušila okupace nacistickou německou armádou v březnu 1939 a zřízení tzv. Protektorátu Čechy a Morava. Tři z uváděných skladatelů – Viktor Ullmann\, Pavel Haas a Hans Winterberg – byli jako Židé nejprve převezeni do ghetta Terezín a pouze poslední z nich unikl dalšímu transportu do Osvětimi a zdejšímu „konečnému řešení“. Erwin Schulhoff\, Žid\, přesvědčený komunista a v době okupace i de iure občan Sovětského svazu\, byl deportován do bavorského koncentračního tábora Wülzburg\, kde brzy poté zemřel. A Rudolf Karel\, jediný v této skupině nežidovského původu\, prominentní skladatel první republiky\, který se po okupaci intenzivně zapojil do domácího odboje\, byl po odhalení svých aktivit nejprve uvězněn v Praze na Pankráci\, ale v lednu 1945 převezen do Malé pevnosti v Terezíně\, kde po měsíci umírá. \n\n\n\nPředchozí registrace na akci je nutná. Registrační formulář naleznete ZDE. \n\n\n\n\n\n\n\nProgram: \n\n\n\nViktor Ullmann: Wendla im Garten\, Schwer ist´s\, das Schöne zu lassen \n\n\n\nPavel Haas: Suita pro klavír\, op. 13 \n\n\n\nErvin Schulhoff:písně na texty ze sbírky “Die Garbe” (Snop obilí) Hanse Steigera\, op. 2 (výběr) \n\n\n\nHans Winterberg: Tři písně na texty Franze Werfela \n\n\n\nRudolf Karel: Notturno pro klavír\, op. 9 \n\n\n\nViktor Ullmann: Tři sonety z portugalštiny op. 29  \n\n\n\nDíla těchto skladatelů po válce většinou upadla v zapomnění a teprve po roce 1989 byla nejprve na mezinárodním poli a poté i v Česku stále intenzivněji znovu objevována a také oceňována. Jednou z českých hudebních umělkyň\, které se intenzivně zasadily o renesanci těchto děl\, je česká sopranistka Irena Troupová. Se svým klavírním partnerem Janem Duškem nejprve v roce 2015 nahrála dvojalbum s kompletní písňovou tvorbou Viktora Ullmanna (žáka Arnolda Schönberga\, který část svého dětství a mládí strávil ve Vídni\, později však si jako svoji vlast vybral Československo). Po vydání tohoto CD následovalo několikaleté koncertní turné s tímto programem na českých i zahraničních pódiích. A v tomto roce zas přispěli Troupová a Dušek ke znovuobjevení dalšího dosud zcela neznámého „terezínského skladatele“ Hanse Winterberga\, když vytvořili podobné CD album s jeho písněmi – vůbec první CD nahrávka díla tohoto skladatele.  \n\n\n\nIrena Troupová je česká pěvkyně-sopranistka\, která od 90. let žila a působila řadu let v Berlíně. Zde se věnovala především interpretaci starší hudby a na tomto poli úspěšně spolupracovala s řadou renomovaných zahraničních dirigentů a interpretů. Po návratu do ČR v roce 2005 svůj repertoár rozšířila i o díla méně či zcela neznámých\, v Čechách působících skladatelů 19. a 20. století\, mj. tzv. terezínských autorů. Spolupracuje však i s českými soudobými skladateli. Na brněnské JAMU je docentkou zpěvu v oboru tzv. poučené historické interpretace.Jan Dušek\, český skladatel a klavírista mladé generace\, je odborným asistentem na pražské HAMU. Jako skladatel je nositelem řady ocenění z různých soutěží a hudebních cen. Jeho klavírní repertoár je velmi široký\, zvláštní zájem však platí hudbě 20. a 21. století. Pro Český rozhlas v minulých letech například pořídil kompletní nahrávku klavírního díla Rudolfa Karla. Systematicky se věnuje i spolupráci s interprety písňové tvorby a v tomto roce spolu s mladými českými pěvkyněmi založil a vede spolek LiederSociety\, který se zasazuje o větší rozšíření tohoto hudebního žánru na českých pódiích.    \n\n\n\nDalší informace naleznete na webu na webu Arnold Schönberg Center.
URL:https://liedercompany.cz/event/hudba-ve-stinu-holokaustu/
LOCATION:Arnold Schönberg Center\, Zaunergasse 1\, Wien\, A-1030\, Rakousko
ATTACH;FMTTYPE=image/jpeg:https://liedercompany.cz/wp-content/uploads/2021/09/DHP8860-Edit.jpg
END:VEVENT
BEGIN:VEVENT
DTSTART;TZID=Europe/Prague:20210816T193000
DTEND;TZID=Europe/Prague:20210816T193000
DTSTAMP:20260425T135050
CREATED:20210807T124912Z
LAST-MODIFIED:20210810T083603Z
UID:718-1629142200-1629142200@liedercompany.cz
SUMMARY:Vždycky naposled - Irena Troupová & Jan Dušek
DESCRIPTION:Sopranistka Irena Troupová a klavírista Jan Dušek\, oba členové našeho spolku\, vystoupí 16. srpna 2021 od 19.30 na koncertě ve Wieserově domě v Terezíně. Na programu zazní písně a klavírní skladby Viktora Ullmanna\, Pavla Haase\, Ervina Schulhoffa\, Hanse Winterberga a Rudolfa Karla\, z nichž většina terezínským ghettem nebo vězením prošla.
URL:https://liedercompany.cz/event/vzdycky-naposled-irena-troupova-jan-dusek/
LOCATION:Wieserův dům\, Terezín\, Pražská 25\, Terezín\, 41155\, Česká republika
ATTACH;FMTTYPE=image/jpeg:https://liedercompany.cz/wp-content/uploads/2021/08/DHP8892-Edit.jpg
END:VEVENT
BEGIN:VEVENT
DTSTART;TZID=Europe/Prague:20210702T190000
DTEND;TZID=Europe/Prague:20210702T190000
DTSTAMP:20260425T135050
CREATED:20210506T153721Z
LAST-MODIFIED:20210611T080416Z
UID:383-1625252400-1625252400@liedercompany.cz
SUMMARY:Immer das letzte Mal - Písně Hanse Winterberga
DESCRIPTION:Koncert písní Hanse Winterberga a slavnostní křest nového CD kompletní písňové tvorby. \n\n\n\nÚčínkují: \n\n\n\nIrena Troupová – soprán \n\n\n\nVojtěch Šembera – baryton \n\n\n\nJaromír Meduna – mluvené slovo \n\n\n\nRoman Hranička – housle \n\n\n\nBalász Adorján – violoncello \n\n\n\nJan Dušek – klavír \n\n\n\nHans Winterberg se narodil 23. března 1901 v pražské židovské rodině. Od devíti let Winterberg studoval hru na klavír u Therèse Wallerstein; na Německé hudební akademii studoval skladbu u Fidelia F. Finkeho a dirigování u Alexandra Zemlinského\, na pražské konzervatoři pak rovněž u Aloise Háby\, podobně jako jeho kolegové Gideon Klein či Viktor Ullmann. Winterberg byl ženatý s německo-českou pianistkou a skladatelkou Marií Maschat. Jejich dcera Ruth se narodila v roce 1935. V roce 1944 byl poslán Winterberg do Terezína. Na konci války se Winterberg vrátil do Prahy\, kde zjistil\, že Marie s Ruth byly deportované do Německa na základě Benešových dekretů\, jejich československé občanství bylo zrušeno. Požádal o československý pas\, aby získal zpět své rukopisy\, které odvezla Marie do Německa. Odjíždí v roce 1947 a rozhoduje se již nevrátit do Československa\, pravděpodobně kvůli komunistickému puči v roce 1948. Brzy našel práci jako editor v Bavorském rozhlase v Mnichově a a začal též učit na Konzervatoři Richarda Strausse. které nahrálo více než dvacet hodin jeho hudby. Po jeho smrti v roce 1991 uvalil jeho adoptivní syn na Winterbergovu hudbu embargo (zákaz provádění) až do roku 2030. To bylo naštěstí zrušeno\, avšak až v roce 2015. Od té doby se dostává jeho hudbě velké pozornosti\, je stále častěji uváděna na koncertních pódiích\, postupně je nahrávána a vydávána. Nakladatelství Boosey and Hawkes připravuje vydání jeho díla.  \n\n\n\nPoměrně obsáhlá písňová tvorba představuje ve Winterbergově díle nezastupitelnou část a je možné ji vysledovat napříč celým jeho tvůrčím životem. Mimo samostatných písní a písňových cyklů s klavírem zahrnuje nahrávka i cyklus písní Dort und hier pro soprán a klavírní trio. V rámci vydání nahrávek kompletní písňové tvorby jsou zastoupeny i 4 písně lehčího žánru\, představující Winterberga v jiném světle. \n\n\n\n\n\n\n\n\n\n\nKOUPIT VSTUPENKY\n\n\n\n\n\n\n\n\nVstupenky k zakoupení v prodejním systému GoOut.net. \n\n\n\n \n\n\n\n \n\n\n\n\n\n\n\n\n{{CODEGoOut}}
URL:https://liedercompany.cz/event/immer-das-letzte-mal-hans-winterberg/
LOCATION:Kostel sv. Vavřince – koncertní síň Pražského Jara\, Hellichova 18\, Praha 1\, 11000\, Česká republika
ATTACH;FMTTYPE=image/jpeg:https://liedercompany.cz/wp-content/uploads/2021/05/Hans_Winterberg_1963.jpg
END:VEVENT
END:VCALENDAR